BEGIN:VCALENDAR
VERSION:2.0
PRODID:-//IBVH//Eventos//ES
BEGIN:VEVENT
UID:evento-287@ibvh.org
DTSTAMP:20260411T103000
DTSTART:20260411T103000
DTEND:20260411T113000
SUMMARY:Rescatados por Cristo
DESCRIPTION:Ministerio de Rescatados es un ministerio de ayuda social en los alrededores del parque Centenario, compartimos la palabra de Dios y luego un almuerzo a los borrachos, trabajadoras del sexo, vendedores ambulantes, vecinos y en fin a todo aquel&nbsp; que llega al lugar.-&nbsp; En este mes de Abril iremos el 11 y el 25.- Si quieres formar parte de este ministerio contacta al hermano Luis Coto al WhatsApp&nbsp;http:// 503 7713 2522&nbsp;
LOCATION:IBVH
END:VEVENT
END:VCALENDAR
