BEGIN:VCALENDAR
VERSION:2.0
PRODID:-//IBVH//Eventos//ES
BEGIN:VEVENT
UID:evento-286@ibvh.org
DTSTAMP:20260405T100000
DTSTART:20260405T100000
DTEND:20260405T110000
SUMMARY:DOMINGO DE RESURRECCIÓN
DESCRIPTION:Domingo de Resurrecci&oacute;n, este 05 de Abril&nbsp; celebraci&oacute;n de culto de Resurrecci&oacute;n dirigido por las mujeres de IBVH &iexcl;Ven Vestida de Blabco!, habr&aacute; servicio de culto &uacute;nicamente a las 10:00 am., y a las 8:00 tendremos desayuno en familia ($3.00 el plato).-
LOCATION:IBVH
END:VEVENT
END:VCALENDAR
