BEGIN:VCALENDAR
VERSION:2.0
PRODID:-//IBVH//Eventos//ES
BEGIN:VEVENT
UID:evento-285@ibvh.org
DTSTAMP:20260412T100000
DTSTART:20260412T100000
DTEND:20260412T110000
SUMMARY:Intercesión Misionera
DESCRIPTION:Oremos Juntos por aquellos que llevan las buenas nuevas de salvaci&oacute;n el 12 de Abril en el culto de las 10:00 am. Si quieres ser parte de este ministerio de Intercesi&oacute;n Misionera, comun&iacute;cate con hermano Ulises Cuellar al WhatsApp&nbsp;http:// 503 7087 0700 &nbsp; &nbsp; &nbsp; &nbsp; &nbsp; &iquest;Y c&oacute;mo predicar&aacute;n si no fueren enviados? Como est&aacute; escrito: &iexcl;Cu&aacute;n&nbsp;hermosos&nbsp;son&nbsp;los&nbsp;pies&nbsp;de&nbsp;los&nbsp;que anuncian la paz, de&nbsp;los&nbsp;que anuncian buenas nuevas! Romanos 10:15
LOCATION:IBVH
END:VEVENT
END:VCALENDAR
