BEGIN:VCALENDAR
VERSION:2.0
PRODID:-//IBVH//Eventos//ES
BEGIN:VEVENT
UID:evento-284@ibvh.org
DTSTAMP:20260419T063000
DTSTART:20260419T063000
DTEND:20260419T073000
SUMMARY:Oración Matutina Para Mujeres
DESCRIPTION:Amadas mujeres les invitamos a&nbsp; tener un tiempo de oraci&oacute;n para orar unas por otras y ponernos por brecha por las necesidades de la iglesia y el mundo entero, luego a disfrutar de un delicioso refrigerio en el Sal&oacute;n de Usos M&uacute;ltiples, en este mes de Abril ser&aacute; el domingo 19, no falten y experimentemos juntas el amor de nuestro Dios.-&nbsp; &nbsp; Si se humillare&nbsp;mi&nbsp;pueblo, sobre el cual&nbsp;mi&nbsp;nombre es invocado,&nbsp;y&nbsp;oraren,&nbsp;y&nbsp;buscaren&nbsp;mi&nbsp;rostro,&nbsp;y&nbsp;se convirtieren de sus malos caminos; entonces&nbsp;yo oir&eacute; desde los cielos,&nbsp;y&nbsp;perdonar&eacute; sus pecados,&nbsp;y&nbsp;sanar&eacute; su tierra. 2 Cr&oacute;nicas 7:14
LOCATION:IBVH
END:VEVENT
END:VCALENDAR
